BEGIN:VCALENDAR
VERSION:2.0
PRODID:Lançamento do Livro \"Fontinhas Nas Fontes Da Sua História\".
X-WR-CALNAME:Lançamento do Livro \"Fontinhas Nas Fontes Da Sua História\"
 .
X-WR-TIMEZONE:Europe/Lisbon
X-PUBLISHED-TTL:P1W
BEGIN:VTIMEZONE
TZID:Europe/Lisbon
X-LIC-LOCATION:Europe/Lisbon
END:VTIMEZONE
BEGIN:VEVENT
UID:69e8c0e9a88eb
DTSTART;VALUE=DATE:20210319
SEQUENCE:0
TRANSP:OPAQUE
DTEND;VALUE=DATE:20210320
SUMMARY:Lançamento do Livro \"Fontinhas Nas Fontes Da Sua História\".
CLASS:PUBLIC
DESCRIPTION:Lançamento do Livro \"Fontinhas Nas Fontes Da Sua História\".
X-MICROSOFT-CDO-ALLDAYEVENT:TRUE
DTSTAMP:20260422T123657Z
END:VEVENT
END:VCALENDAR